BEGIN:VCALENDAR
VERSION:2.0
PRODID:-//La vetrina delle professioni - ECPv6.15.20//NONSGML v1.0//EN
CALSCALE:GREGORIAN
METHOD:PUBLISH
X-ORIGINAL-URL:https://lavetrinadelleprofessioni.it
X-WR-CALDESC:Eventi per La vetrina delle professioni
REFRESH-INTERVAL;VALUE=DURATION:PT1H
X-Robots-Tag:noindex
X-PUBLISHED-TTL:PT1H
BEGIN:VTIMEZONE
TZID:UTC
BEGIN:STANDARD
TZOFFSETFROM:+0000
TZOFFSETTO:+0000
TZNAME:UTC
DTSTART:20210101T000000
END:STANDARD
END:VTIMEZONE
BEGIN:VEVENT
DTSTART;TZID=UTC:20231031T174500
DTEND;TZID=UTC:20231031T190000
DTSTAMP:20260426T031111
CREATED:20231027T090018Z
LAST-MODIFIED:20231027T090602Z
UID:6124-1698774300-1698778800@lavetrinadelleprofessioni.it
SUMMARY:L'AUTOMAZIONE INDUSTRIALE CHE INTEGRA LE NUOVE TECNOLOGIE
DESCRIPTION:IL CLUB BUSINESS SINERGY \nÈ lieto di invitarti all’Evento di Networking & Business \,riservato alle PMI e Liberi Professionisti\, \n  di Martedì 31 Ottobre  dalle ore 17:45 alle 19:00. \nSpeaker dell’Evento- DIEGO BIGNAMI di ESEDRA:  \n  \n \nDurante questo evento potrai: \n\npresentare la tua attività ad una platea di Imprenditori eterogenea\, di tutta Italia;\nallacciare relazioni con i colleghi che possono diventare tuoi Clienti\, Fornitori o Partner;\nimparare a fare Rete con altre aziende\, per poter proporre soluzioni più articolate ai tuoi clienti;\n\nSe vuoi partecipare\, chiedi il link di zoom a: info@lavetrinadelleprofessioni.it 
URL:https://lavetrinadelleprofessioni.it/event/lautomazione-industriale-che-integra-le-nuove-tecnologie/
LOCATION:ZOOM\, Italia
CATEGORIES:Milano Business Sinergy,NETWORKING,Networking & Business
END:VEVENT
BEGIN:VEVENT
DTSTART;TZID=UTC:20230704T174500
DTEND;TZID=UTC:20230704T190000
DTSTAMP:20260426T031111
CREATED:20230621T132822Z
LAST-MODIFIED:20230621T132838Z
UID:6000-1688492700-1688497200@lavetrinadelleprofessioni.it
SUMMARY:IL POTERE NASCOSTO DELL'ORO
DESCRIPTION:  \nIl Club Business Sinergy\, organizza il 4 Lugio l’Evento di Networking & Business dal titolo: Il Potere nascosto dell’Oro.\nSpeaker : Roberto Pugno\, consuente aziendale. \nPerché Partecipare:\n1°: Potrai promuovere la tua attività ad una platea di Imprenditori di tutta Italia; \n2°: Il principale vantaggio della partecipazione a una rete d’Imprese è la possibilità di presentarsi sul mercato con un ventaglio di soluzioni e risorse umane superiore a quelle che potrebbe raggiungere la singola impresa. \nSe anche tu desideri partecipare\, chiedi il link di zoom a: info@lavetrinadelleprofessioni.it \n  \n 
URL:https://lavetrinadelleprofessioni.it/event/il-potere-nascosto-delloro-2/
LOCATION:ZOOM\, Italia
CATEGORIES:Milano Business Sinergy,Network & Business,Network % Business,NETWORKING
ATTACH;FMTTYPE=image/jpeg:https://lavetrinadelleprofessioni.it/wp-content/uploads/2023/06/2.jpg
END:VEVENT
BEGIN:VEVENT
DTSTART;TZID=UTC:20221129T174500
DTEND;TZID=UTC:20221129T190000
DTSTAMP:20260426T031111
CREATED:20221107T111118Z
LAST-MODIFIED:20221109T171844Z
UID:5779-1669743900-1669748400@lavetrinadelleprofessioni.it
SUMMARY:CYBERSECURITY NELL'ERA DIGITALE PER LE PMI
DESCRIPTION:  \n  \n 
URL:https://lavetrinadelleprofessioni.it/event/cybersecurity-nellera-digitale-per-le-pmi/
LOCATION:ZOOM\, Italia
CATEGORIES:Milano Business Sinergy,Network & Business,NETWORKING,Networking & Business
END:VEVENT
BEGIN:VEVENT
DTSTART;TZID=UTC:20220111T174500
DTEND;TZID=UTC:20220111T190000
DTSTAMP:20260426T031111
CREATED:20211229T084939Z
LAST-MODIFIED:20220106T162001Z
UID:4380-1641923100-1641927600@lavetrinadelleprofessioni.it
SUMMARY:" Impresa di Famiglia: una macchina ( quasi ) perfetta "
DESCRIPTION:IL Club Milano Business Sinergy\nTi  invita all’Evento di Business Networking dell’ 11.01; orario:  17:45-19:00 . \n  \n  SPEAKER DELL’EVENTO-  Maurizio Bottaro \n” Impresa di Famiglia: una macchina ( quasi ) perfetta “\n  \n  \n  \n  \nI partecipanti\,  potranno sponsorizzare la propria attività e allacciare Partnership con colleghi di tutta Italia grazie ad un metodo di  Relazioni strutturato che permette di dare vita a Progetti di Business.\n  \n  \nL’EVENTO SARA’ TRASMESSO SUL CANALE TV YOUTUBE:\n https://www.youtube.com/channel/UCzdvhlz_kJs \n  \n  \nIscriviti all’evento per ricevere  il link di Zoom:\nhttps://lavetrinadelleprofessioni.it/registrazione-ospiti/ \n 
URL:https://lavetrinadelleprofessioni.it/event/impresa-di-famiglia-una-macchina-quasi-perfetta/
LOCATION:ZOOM\, Italia
CATEGORIES:Milano Business Sinergy
END:VEVENT
END:VCALENDAR