BEGIN:VCALENDAR
VERSION:2.0
PRODID:-//La vetrina delle professioni - ECPv6.15.20//NONSGML v1.0//EN
CALSCALE:GREGORIAN
METHOD:PUBLISH
X-ORIGINAL-URL:https://lavetrinadelleprofessioni.it
X-WR-CALDESC:Eventi per La vetrina delle professioni
REFRESH-INTERVAL;VALUE=DURATION:PT1H
X-Robots-Tag:noindex
X-PUBLISHED-TTL:PT1H
BEGIN:VTIMEZONE
TZID:UTC
BEGIN:STANDARD
TZOFFSETFROM:+0000
TZOFFSETTO:+0000
TZNAME:UTC
DTSTART:20200101T000000
END:STANDARD
END:VTIMEZONE
BEGIN:VEVENT
DTSTART;TZID=UTC:20210401T174500
DTEND;TZID=UTC:20210401T190000
DTSTAMP:20260423T195933
CREATED:20210320T165136Z
LAST-MODIFIED:20210322T125921Z
UID:2764-1617299100-1617303600@lavetrinadelleprofessioni.it
SUMMARY:NETWORKING & BUSINESS
DESCRIPTION:Ti invita all’evento di Networking & Business del 1° Aprile\, dalle ore 17:45 alle ore 19:00.\nLo Speaker dell’evento sarà; Eliana Pezzetti\, che ci presenterà la propria attività dal titolo: \nBellezza e Benessere\, percorsi innovativi\n  \n \nImprenditori e Liberi professionisti che parteciperanno all’evento potranno relazionarsi ad altri colleghi\, fare Business e dare vita a Partnership a livello Italia. \n Chiedi  il link di Zoom a: info@lavetrinadelleprofessioni.it \n  \nWWW.LAVETRINADELLEPROFESSIONI.IT\n  \n 
URL:https://lavetrinadelleprofessioni.it/event/networking-business-2/
LOCATION:ZOOM\, Italia
CATEGORIES:Networking & Business
END:VEVENT
END:VCALENDAR